BEGIN:VCALENDAR
VERSION:2.0
PRODID:-//www.oaxaca.travel//NONSGML kigkonsult.se iCalcreator 2.41.92//
CALSCALE:GREGORIAN
METHOD:PUBLISH
UID:63363034-3434-4231-b234-613863326464
X-WR-CALNAME:iCagenda
X-WR-CALDESC:Event Management Extension for Joomla!
X-WR-RELCALID:3E26604A-50F4-4449-8B3E-E4F4932D05B5
X-WR-TIMEZONE:America/Mexico_City
BEGIN:VTIMEZONE
TZID:America/Mexico_City
BEGIN:STANDARD
TZNAME:CST
DTSTART:20240221T060000
TZOFFSETFROM:+0000
TZOFFSETTO:-0600
END:STANDARD
END:VTIMEZONE
BEGIN:VEVENT
UID:37613861-3130-4662-b539-303264353731
DTSTAMP:20260421T164332Z
CATEGORIES:Costa Oaxaqueña: Fuerte\, Viva y Festiva
CLASS:PUBLIC
DESCRIPTION;ALTREP="CID:<FFFF__=0ABBE548DFE235B58f9e8a93d@coffeebean.com>":
 \nUn deporte ancestral que mantiene viva la fuerza y el orgullo de la cult
 ura mixteca.\n\n\n En el marco de las Fiestas de Noviembre en Puerto Escon
 dido 2025\, se llevará a cabo el Torneo Internacional de Pelota Mixteca lo
 s días 22 y 23 de noviembre en Bajos de Chila. Este evento reunirá a grand
 es exponentes de esta tradición deportiva en las categorías Primera\, Segu
 nda y Tercera Fuerza\, impulsando la preservación de una práctica que form
 a parte esencial de nuestra identidad. \n\n \nVer Más...
DTSTART:20251122T213700Z
DTEND:20251123T213700Z
GEO:+15.916943;-97.12944
LOCATION:
ORGANIZER:
SEQUENCE:1
SUMMARY:Torneo Internacional de Pelota Mixteca 2025
TRANSP:OPAQUE
URL:https://oaxaca.travel/index.php/es/activities-2/cartelera-costa-oaxaque
 na-fuerte-viva-y-festiva/5-torneo-internacional-de-pelota-mixteca-2025
END:VEVENT
END:VCALENDAR
