BEGIN:VCALENDAR
VERSION:2.0
PRODID:-//jEvents 2.0 for Joomla//EN
CALSCALE:GREGORIAN
METHOD:PUBLISH
BEGIN:VEVENT
UID:ed1b906abf5182073e09bfb9ca23d4ba
CATEGORIES:Próximos Eventos
CREATED:20250326T171235
SUMMARY:Placitas Españolas en Ocotlán de Morelos
LOCATION:
DESCRIPTION:¡Te invitamos a disfrutar de las "Placitas Españolas" en Ocotlán de Morelos
  del 12 de marzo al 9 de abril de 2025!\nCelebra una de las tradiciones más
  representativas de la Cuaresma, donde podrás disfrutar de la deliciosa gas
 tronomía local, como tamales, atole y antojitos, acompañados de música regi
 onal y bandas de viento.La comunidad de Ocotlán y sus alrededores se unen p
 ara mantener viva esta tradición, con actividades llenas de cultura y arte,
  destacando a artistas locales e invitados especiales.¡Te esperamos para vi
 vir una experiencia auténtica llena de alegría y tradición! Ver Cartel ... 
 (index.php/es/activities-2/alternate-blog/placitas-espanolas-en-ocotlan-de-
 morelos) 
X-ALT-DESC;FMTTYPE=text/html:<div class="container"><div id="asamodule_search_results"><p>¡Te invitamos 
 a disfrutar de las "Placitas Españolas" en Ocotlán de Morelos del 12 de mar
 zo al 9 de abril de 2025!</p><div class="x11i5rnm xat24cr x1mh8g0r x1vvkbs 
 xtlvy1s x126k92a"><div dir="auto">Celebra una de las tradiciones más repres
 entativas de la Cuaresma, donde podrás disfrutar de la deliciosa gastronomí
 a local, como tamales, atole y antojitos, acompañados de música regional y 
 bandas de viento.</div></div><div class="x11i5rnm xat24cr x1mh8g0r x1vvkbs 
 xtlvy1s x126k92a"><div dir="auto">La comunidad de Ocotlán y sus alrededores
  se unen para mantener viva esta tradición, con actividades llenas de cultu
 ra y arte, destacando a artistas locales e invitados especiales.</div></div
 ><div class="x11i5rnm xat24cr x1mh8g0r x1vvkbs xtlvy1s x126k92a"><div dir="
 auto">¡Te esperamos para vivir una experiencia auténtica llena de alegría y
  tradición!</div></div><div dir="auto"> </div><div dir="auto"><a title="Pla
 citas Españolas en Ocotlán de Morelos" href="index.php/es/activities-2/alte
 rnate-blog/placitas-espanolas-en-ocotlan-de-morelos">Ver Cartel ...</a></di
 v><div dir="auto"> </div></div></div>
CONTACT:
X-EXTRAINFO:
DTSTAMP:20260419T175314Z
DTSTART;TZID=America/Mexico_City:20250409T080000
DTEND;TZID=America/Mexico_City:20250409T230000
SEQUENCE:0
TRANSP:OPAQUE
END:VEVENT
END:VCALENDAR