BEGIN:VCALENDAR
VERSION:2.0
PRODID:-//jEvents 2.0 for Joomla//EN
CALSCALE:GREGORIAN
METHOD:PUBLISH
BEGIN:VEVENT
UID:41dbf77419b6bb7146e8ed70103de2cc
CATEGORIES:Próximos Eventos
CREATED:20251217T120824
SUMMARY:Corralero Fest: Eventos del día Domingo 21 de Diciembre
LOCATION:Playa Corralero\, Santiago Pinotepa Nacional
DESCRIPTION:Cuarto Torneo de Pesca Deportivo de Orilla de Playa Corralero\n-Hora: 7:00 
 h\n-Lugar: Playa Corralero, Santiago Pinotepa Nacional.\nDJ VAMPIRO\n-Hora:
  12:30 h\n-Lugar: Playa Corralero, Santiago Pinotepa Nacional.\nGrupo la Cu
 mbre de Pinotepa\n-Hora: 14:30 h\n-Lugar: Playa Corralero, Santiago Pinotep
 a Nacional.\nCierre del Torneo de Pesca Deportiva\n-Hora: 16:50 h\n-Lugar: 
 Playa Corralero, Santiago Pinotepa Nacional.\nApertura del Grupo Musical "L
 os Karkis"\n-Hora: 17:00 h\n-Lugar: Playa Corralero, Santiago Pinotepa Naci
 onal.\nCierre del Evento\n-Hora: 20:00 h\n-Lugar: Playa Corralero, Santiago
  Pinotepa Nacional.\n\n
X-ALT-DESC;FMTTYPE=text/html:<div class="container"><div id="asamodule_search_results"><p>Cuarto Torneo 
 de Pesca Deportivo de Orilla de Playa Corralero<br />-Hora: 7:00 h<br />-Lu
 gar: Playa Corralero, Santiago Pinotepa Nacional.</p><p>DJ VAMPIRO<br />-Ho
 ra: 12:30 h<br />-Lugar: Playa Corralero, Santiago Pinotepa Nacional.</p><p
 >Grupo la Cumbre de Pinotepa<br />-Hora: 14:30 h<br />-Lugar: Playa Corrale
 ro, Santiago Pinotepa Nacional.</p><p>Cierre del Torneo de Pesca Deportiva<
 br />-Hora: 16:50 h<br />-Lugar: Playa Corralero, Santiago Pinotepa Naciona
 l.</p><p>Apertura del Grupo Musical "Los Karkis"<br />-Hora: 17:00 h<br />-
 Lugar: Playa Corralero, Santiago Pinotepa Nacional.</p><p>Cierre del Evento
 <br />-Hora: 20:00 h<br />-Lugar: Playa Corralero, Santiago Pinotepa Nacion
 al.</p><p><a href="https://www.facebook.com/photo?fbid=1202249621938831&amp
 ;set=a.620634420100357">Ver Cartelera Oficial... </a></p></div></div>
CONTACT:9515021200
X-EXTRAINFO:Los días 20 y 21, Playa Corralero, en Pinotepa Nacional, será sede de una e
 dición especial del Corralero Fest, un evento que celebra la cultura, la mú
 sica y la riqueza gastronómica de la Costa Oaxaqueña.\n\nAquí podrás disfru
 tar de conciertos, concursos, talleres y una variada oferta gastronómica, e
 n un entorno natural privilegiado.
DTSTAMP:20260419T104712Z
DTSTART;TZID=America/Mexico_City;VALUE=DATE:20251221
DTEND;TZID=America/Mexico_City;VALUE=DATE:20251222
SEQUENCE:0
TRANSP:OPAQUE
END:VEVENT
END:VCALENDAR